BEGIN:VCALENDAR
VERSION:2.0
PRODID:-//hacksw/handcal//NONSGML v1.0//EN
BEGIN:VEVENT
SUMMARY:JEUDI 8H30 LA COLLE NOIRE
UID:ad9b8342-ebe3-4eee-9b30-a182be64b93b
DTSTART:20260423T060000Z
DTEND:20260423T220000Z
LOCATION:Localisation ESPACE DES ARTS 83220 LR PRADET
CATEGORIES:Entrainement
STATUS:
DESCRIPTION:<div><strong><span style="font-size:18px;"><span
 style="color:#0000ff;">SORTIE PERFORMANCE
 (Chantal)</span></span></strong></div>
 
 <div><strong>Rendez-vous
 parking Espace des Arts au Pradet</strong></div>
 
 <div><em>*Marche
 nordique</em></div>
URL;VALUE=URI:https://vmasport.sportsregions.fr/evenements/2026/04/23/jeudi-8h30-la-colle-noire-2442763
END:VEVENT
END:VCALENDAR
