BEGIN:VCALENDAR
VERSION:2.0
PRODID:-//hacksw/handcal//NONSGML v1.0//EN
BEGIN:VEVENT
SUMMARY:MARDI 18H LEO LAGRANGE
UID:f6e67a68-1c5b-4ad1-a669-6c477425aa2f
DTSTART:20260421T160000Z
DTEND:20260421T220000Z
LOCATION:Localisation Complexe sportif Leo Lagrange avenue Rene Cassin 83100 TOULON
CATEGORIES:Entrainement
STATUS:
DESCRIPTION:<div><span style="font-size:16px;"><span
 style="color:#0000cc;"><strong>SEANCE STADE
 (Xavier)</strong></span></span></div>
 
 <div><strong>Rendez-vous
 parking en sous-sol du complexe (acces au plateau sportif
 inferieur)</strong></div>
 
 <div><em>*Marche Nordique</em></div>
URL;VALUE=URI:https://vmasport.sportsregions.fr/evenements/2026/04/21/mardi-18h-leo-lagrange-2442767
END:VEVENT
END:VCALENDAR
