BEGIN:VCALENDAR
VERSION:2.0
PRODID:-//hacksw/handcal//NONSGML v1.0//EN
BEGIN:VEVENT
SUMMARY:MARDI 18H GUY MOQUET
UID:d38fcde4-bd15-4685-8aac-8572aea9873d
DTSTART:20260421T160000Z
DTEND:20260421T220000Z
LOCATION:Localisation Impasse Guy Moquet Chemin de la Planquette 83130 LA GARDE
CATEGORIES:Entrainement
STATUS:
DESCRIPTION:<div><span style="color:#0000ff;"><span
 style="font-size:18px;"><strong>SEANCE STADE
 (Chantal)</strong></span></span></div>
 
 <div><strong>Rendez-vous
 parking Guy Moquet 1</strong></div>
 
 <div><em>*Marche
 nordique</em></div>
URL;VALUE=URI:https://vmasport.sportsregions.fr/evenements/2026/04/21/mardi-18h-guy-moquet-2442768
END:VEVENT
END:VCALENDAR
