BEGIN:VCALENDAR
VERSION:2.0
PRODID:-//hacksw/handcal//NONSGML v1.0//EN
BEGIN:VEVENT
SUMMARY:LUNDI 8H30 LE PLAN DE LA GARDE
UID:0ff37fe2-3707-4b73-94ac-d7d329e17ee3
DTSTART:20260420T063000Z
DTEND:20260420T220000Z
LOCATION:Localisation PARKING DE LA BOUILLA 83130 LA GARDE
CATEGORIES:Entrainement
STATUS:
DESCRIPTION:<div><span style="color:#0000ff;"><strong><span
 style="font-size:16px;">SORTIE NATURE
 (Chantal)</span></strong></span></div>
 
 <div><span
 style="color:#000000;"><strong>Rendez-vous parking de la Bouilla a
 La Garde</strong></span></div>
 
 <div><em><span
 style="color:#000000;">*Marche nordique</span></em></div>
URL;VALUE=URI:https://vmasport.sportsregions.fr/evenements/2026/04/20/lundi-8h30-le-plan-de-la-garde-2442762
END:VEVENT
END:VCALENDAR
