BEGIN:VCALENDAR
VERSION:2.0
PRODID:-//hacksw/handcal//NONSGML v1.0//EN
BEGIN:VEVENT
SUMMARY:SAMEDI 9H LA CAPTE
UID:b493338a-ca6f-4da6-919e-681f381d8b97
DTSTART:20260418T070000Z
DTEND:20260418T220000Z
LOCATION:Localisation PORT DE LA CAPTE 83400 HYERES
CATEGORIES:Entrainement
STATUS:
DESCRIPTION:<div><span style="color:#0000ff;"><font
 size="4"><b>SORTIE CLUB
 (Xavier)</b></font></span></div>
 
 <div><b>Rendez-vous parking
 port de la Capte</b></div>
 
 <div><em>*Marche
 nordique</em></div>
 
 <div> </div>
 
 <p> </p>
URL;VALUE=URI:https://vmasport.sportsregions.fr/evenements/2026/04/18/samedi-9h-la-capte-2440319
END:VEVENT
END:VCALENDAR
