BEGIN:VCALENDAR
VERSION:2.0
PRODID:-//hacksw/handcal//NONSGML v1.0//EN
BEGIN:VEVENT
SUMMARY:JEUDI 9H LA COLLE NOIRE
UID:4ebd5672-207d-45b7-8b16-228e278e96c2
DTSTART:20260319T080000Z
DTEND:20260319T230000Z
LOCATION:Localisation ESPACE DES ARTS 83220 LR PRADET
CATEGORIES:Entrainement
STATUS:
DESCRIPTION:<div><strong><span style="font-size:18px;"><span
 style="color:#0000ff;">SORTIE PERFORMANCE
 (Chantal)</span></span></strong></div>
 
 <div><strong>Rendez-vous
 parking Espace des Arts au Pradet</strong></div>
 
 <div><em>*Marche
 nordique</em></div>
URL;VALUE=URI:https://vmasport.sportsregions.fr/evenements/2026/03/19/jeudi-9h-la-colle-noire-2428563
END:VEVENT
END:VCALENDAR
