BEGIN:VCALENDAR
VERSION:2.0
PRODID:-//hacksw/handcal//NONSGML v1.0//EN
BEGIN:VEVENT
SUMMARY:MARDI 18H LEO LAGRANGE
UID:7f141587-0e04-460e-b920-c95b51f57443
DTSTART:20260317T170000Z
DTEND:20260317T230000Z
LOCATION:Localisation Complexe sportif Leo Lagrange avenue Rene Cassin 83100 TOULON
CATEGORIES:Entrainement
STATUS:
DESCRIPTION:<div><span style="font-size:16px;"><span
 style="color:#0000cc;"><strong>SEANCE STADE
 (Xavier)</strong></span></span></div>
 
 <div><strong>Rendez-vous
 parking en sous-sol du complexe (acces au plateau sportif
 inferieur)</strong></div>
 
 <div><em>*Marche Nordique</em></div>
URL;VALUE=URI:https://vmasport.sportsregions.fr/evenements/2026/03/17/mardi-18h-leo-lagrange-2428564
END:VEVENT
END:VCALENDAR
