BEGIN:VCALENDAR
VERSION:2.0
PRODID:-//hacksw/handcal//NONSGML v1.0//EN
BEGIN:VEVENT
SUMMARY:ANNULE
UID:9ca37da3-142a-463b-9edc-cc97dcfff045
DTSTART:20260314T080000Z
DTEND:20260314T230000Z
LOCATION:Localisation LA CASTILLE 83 LA FARLEDE
CATEGORIES:Entrainement
STATUS:
DESCRIPTION:<div><span style="font-size:16px;"><span
 style="color:#0000ff;"><b>9H SORTIE CLUB
 (Xavier)</b></span></span></div>
 
 <div><strong>Rendez-vous parking
 domaine de La Castille</strong></div>
 
 <div><em>*Marche
 nordique</em></div>
 
 <div> </div>
 
 <p> </p>
URL;VALUE=URI:https://vmasport.sportsregions.fr/evenements/2026/03/14/annule-2424245
END:VEVENT
END:VCALENDAR
