BEGIN:VCALENDAR
VERSION:2.0
PRODID:-//hacksw/handcal//NONSGML v1.0//EN
BEGIN:VEVENT
SUMMARY:ANNULE
UID:5d353588-005a-4b1c-aef7-193245f7ba7d
DTSTART:20260131T080000Z
DTEND:20260131T230000Z
LOCATION:Localisation ESPACE DES ARTS 83220 LR PRADET
CATEGORIES:Entrainement
STATUS:
DESCRIPTION:<div>
 <div><span style="color:#0000ff;"><font
 size="4"><b>SORTIE
 CLUB</b></font></span></div>
 </div>
 
 <div><strong>Rendez-vous parking
 Espace des Arts au Pradet</strong></div>
 
 <div><em>*Marche
 Nordique</em></div>
URL;VALUE=URI:https://vmasport.sportsregions.fr/evenements/2026/01/31/annule-2402025
END:VEVENT
END:VCALENDAR
